BEGIN:VCALENDAR
VERSION:2.0
PRODID:-//St. Michael &amp; All Angels - ECPv6.15.20//NONSGML v1.0//EN
CALSCALE:GREGORIAN
METHOD:PUBLISH
X-ORIGINAL-URL:https://smaawpg.ca/wp
X-WR-CALDESC:Events for St. Michael &amp; All Angels
REFRESH-INTERVAL;VALUE=DURATION:PT1H
X-Robots-Tag:noindex
X-PUBLISHED-TTL:PT1H
BEGIN:VTIMEZONE
TZID:America/Winnipeg
BEGIN:DAYLIGHT
TZOFFSETFROM:-0600
TZOFFSETTO:-0500
TZNAME:CDT
DTSTART:20240310T080000
END:DAYLIGHT
BEGIN:STANDARD
TZOFFSETFROM:-0500
TZOFFSETTO:-0600
TZNAME:CST
DTSTART:20241103T070000
END:STANDARD
BEGIN:DAYLIGHT
TZOFFSETFROM:-0600
TZOFFSETTO:-0500
TZNAME:CDT
DTSTART:20250309T080000
END:DAYLIGHT
BEGIN:STANDARD
TZOFFSETFROM:-0500
TZOFFSETTO:-0600
TZNAME:CST
DTSTART:20251102T070000
END:STANDARD
BEGIN:DAYLIGHT
TZOFFSETFROM:-0600
TZOFFSETTO:-0500
TZNAME:CDT
DTSTART:20260308T080000
END:DAYLIGHT
BEGIN:STANDARD
TZOFFSETFROM:-0500
TZOFFSETTO:-0600
TZNAME:CST
DTSTART:20261101T070000
END:STANDARD
END:VTIMEZONE
BEGIN:VEVENT
DTSTART;TZID=America/Winnipeg:20251206T073000
DTEND;TZID=America/Winnipeg:20251206T083000
DTSTAMP:20260424T071618
CREATED:20251104T080435Z
LAST-MODIFIED:20251202T232948Z
UID:6463-1765006200-1765009800@smaawpg.ca
SUMMARY:Rorate Mass
DESCRIPTION:
URL:https://smaawpg.ca/wp/event/rorate-mass/
LOCATION:St. Luke’s\, 130 Nassau St N\, Winnipeg\, Manitoba\, R3L 2H1\, Canada
CATEGORIES:Holy Days
ATTACH;FMTTYPE=image/png:https://smaawpg.ca/wp/wp-content/uploads/2025/11/Rorate-Mass-2025-1.png
END:VEVENT
BEGIN:VEVENT
DTSTART;TZID=America/Winnipeg:20251214T160000
DTEND;TZID=America/Winnipeg:20251214T170000
DTSTAMP:20260424T071618
CREATED:20251202T231132Z
LAST-MODIFIED:20251203T152757Z
UID:6533-1765728000-1765731600@smaawpg.ca
SUMMARY:Choral Evensong & Advent Hymn Sing
DESCRIPTION:*Special Note* This service is a joint service with the St. Alban Ordinariate Catholic Community and will take place at St John Brebeuf (1707 John Brebeuf Place) \nGaudete Sunday\, 14 December 2025 at 4 pm \nThis  service of evening prayer\, together with the St. Alban Ordinariate Catholic Community\, will be followed by a time of informal singing of Advent hymns. A  potluck supper and fellowship will follow in the lower hall. Please join us\, and bring friends and family along\, as we observe the season of Advent in  scripture\, prayers\, and music.
URL:https://smaawpg.ca/wp/event/choral-evensong-advent-hymn-sing/
LOCATION:St. John Brebeuf Roman Catholic Church\, 1707 John Brebeuf Place\, Winnipeg\, Manitoba\, R3N 2A2\, Canada
ATTACH;FMTTYPE=image/png:https://smaawpg.ca/wp/wp-content/uploads/2025/12/IMG_2586.png
END:VEVENT
BEGIN:VEVENT
DTSTART;TZID=America/Winnipeg:20251224T230000
DTEND;TZID=America/Winnipeg:20251225T010000
DTSTAMP:20260424T071618
CREATED:20251202T231313Z
LAST-MODIFIED:20251202T231537Z
UID:6537-1766617200-1766624400@smaawpg.ca
SUMMARY:Christmas Eve Mass
DESCRIPTION:Christmas Eve – Wednesday\, 24 December 2025 at 11pm\nChristmas Day – Thursday\, 25 December 2025 at 10:30am \nAll are welcome to join us as we celebrate the birth of Christ. \n*Please note we will not have our usual Thursday noon mass on Christmas Day.
URL:https://smaawpg.ca/wp/event/christmas-eve-mass/
LOCATION:St. Michael’s\, 300 Hugo St N\, Winnipeg\, MB\, R3M 2N7\, Canada
ATTACH;FMTTYPE=image/png:https://smaawpg.ca/wp/wp-content/uploads/2025/12/Color-Christmas-2025.png
END:VEVENT
BEGIN:VEVENT
DTSTART;TZID=America/Winnipeg:20251225T103000
DTEND;TZID=America/Winnipeg:20251225T120000
DTSTAMP:20260424T071618
CREATED:20251202T231404Z
LAST-MODIFIED:20251202T231550Z
UID:6540-1766658600-1766664000@smaawpg.ca
SUMMARY:Christmas Day Mass
DESCRIPTION:Christmas Eve – Wednesday\, 24 December 2025 at 11pm\nChristmas Day – Thursday\, 25 December 2025 at 10:30am \nAll are welcome to join us as we celebrate the birth of Christ. \n*Please note we will not have our usual Thursday noon mass on Christmas Day.
URL:https://smaawpg.ca/wp/event/christmas-day-mass/
LOCATION:St. Michael’s\, 300 Hugo St N\, Winnipeg\, MB\, R3M 2N7\, Canada
ATTACH;FMTTYPE=image/png:https://smaawpg.ca/wp/wp-content/uploads/2025/12/Color-Christmas-2025.png
END:VEVENT
END:VCALENDAR