BEGIN:VCALENDAR
VERSION:2.0
PRODID:-//St. Michael &amp; All Angels - ECPv6.15.20//NONSGML v1.0//EN
CALSCALE:GREGORIAN
METHOD:PUBLISH
X-WR-CALNAME:St. Michael &amp; All Angels
X-ORIGINAL-URL:https://smaawpg.ca/wp
X-WR-CALDESC:Events for St. Michael &amp; All Angels
REFRESH-INTERVAL;VALUE=DURATION:PT1H
X-Robots-Tag:noindex
X-PUBLISHED-TTL:PT1H
BEGIN:VTIMEZONE
TZID:America/Winnipeg
BEGIN:DAYLIGHT
TZOFFSETFROM:-0600
TZOFFSETTO:-0500
TZNAME:CDT
DTSTART:20240310T080000
END:DAYLIGHT
BEGIN:STANDARD
TZOFFSETFROM:-0500
TZOFFSETTO:-0600
TZNAME:CST
DTSTART:20241103T070000
END:STANDARD
BEGIN:DAYLIGHT
TZOFFSETFROM:-0600
TZOFFSETTO:-0500
TZNAME:CDT
DTSTART:20250309T080000
END:DAYLIGHT
BEGIN:STANDARD
TZOFFSETFROM:-0500
TZOFFSETTO:-0600
TZNAME:CST
DTSTART:20251102T070000
END:STANDARD
BEGIN:DAYLIGHT
TZOFFSETFROM:-0600
TZOFFSETTO:-0500
TZNAME:CDT
DTSTART:20260308T080000
END:DAYLIGHT
BEGIN:STANDARD
TZOFFSETFROM:-0500
TZOFFSETTO:-0600
TZNAME:CST
DTSTART:20261101T070000
END:STANDARD
BEGIN:DAYLIGHT
TZOFFSETFROM:-0600
TZOFFSETTO:-0500
TZNAME:CDT
DTSTART:20270314T080000
END:DAYLIGHT
BEGIN:STANDARD
TZOFFSETFROM:-0500
TZOFFSETTO:-0600
TZNAME:CST
DTSTART:20271107T070000
END:STANDARD
END:VTIMEZONE
BEGIN:VEVENT
DTSTART;TZID=America/Winnipeg:20260405T103000
DTEND;TZID=America/Winnipeg:20260405T120000
DTSTAMP:20260424T112645
CREATED:20260320T171134Z
LAST-MODIFIED:20260320T171134Z
UID:6689-1775385000-1775390400@smaawpg.ca
SUMMARY:Easter Sung Mass & Festive coffee hour
DESCRIPTION:
URL:https://smaawpg.ca/wp/event/easter-sung-mass-festive-coffee-hour/
LOCATION:St. Michael’s\, 300 Hugo St N\, Winnipeg\, MB\, R3M 2N7\, Canada
CATEGORIES:Holy Days
END:VEVENT
BEGIN:VEVENT
DTSTART;TZID=America/Winnipeg:20260404T200000
DTEND;TZID=America/Winnipeg:20260404T230000
DTSTAMP:20260424T112645
CREATED:20260320T171057Z
LAST-MODIFIED:20260320T171057Z
UID:6687-1775332800-1775343600@smaawpg.ca
SUMMARY:The Great Vigil of Easter
DESCRIPTION:
URL:https://smaawpg.ca/wp/event/the-great-vigil-of-easter/
LOCATION:St. Michael’s\, 300 Hugo St N\, Winnipeg\, MB\, R3M 2N7\, Canada
CATEGORIES:Holy Days,Parish Events
END:VEVENT
BEGIN:VEVENT
DTSTART;TZID=America/Winnipeg:20260403T210000
DTEND;TZID=America/Winnipeg:20260403T220000
DTSTAMP:20260424T112645
CREATED:20260320T170955Z
LAST-MODIFIED:20260320T170955Z
UID:6685-1775250000-1775253600@smaawpg.ca
SUMMARY:Tenebrae of Holy Saturday (St. Luke's)
DESCRIPTION:
URL:https://smaawpg.ca/wp/event/tenebrae-of-holy-saturday-st-lukes/
LOCATION:St. Luke’s\, 130 Nassau St N\, Winnipeg\, Manitoba\, R3L 2H1\, Canada
CATEGORIES:Holy Days
END:VEVENT
BEGIN:VEVENT
DTSTART;TZID=America/Winnipeg:20260403T123000
DTEND;TZID=America/Winnipeg:20260403T140000
DTSTAMP:20260424T112645
CREATED:20260320T170922Z
LAST-MODIFIED:20260320T170922Z
UID:6683-1775219400-1775224800@smaawpg.ca
SUMMARY:Good Friday Solemn Liturgy
DESCRIPTION:with Communion from the Reserved Sacrament
URL:https://smaawpg.ca/wp/event/good-friday-solemn-liturgy/
LOCATION:St. Michael’s\, 300 Hugo St N\, Winnipeg\, MB\, R3M 2N7\, Canada
CATEGORIES:Holy Days
END:VEVENT
BEGIN:VEVENT
DTSTART;TZID=America/Winnipeg:20260402T210000
DTEND;TZID=America/Winnipeg:20260402T220000
DTSTAMP:20260424T112645
CREATED:20260320T170827Z
LAST-MODIFIED:20260320T170827Z
UID:6681-1775163600-1775167200@smaawpg.ca
SUMMARY:Tenebrae of Good Friday (St. Luke's)
DESCRIPTION:
URL:https://smaawpg.ca/wp/event/tenebrae-of-good-friday-st-lukes/
LOCATION:St. Luke’s\, 130 Nassau St N\, Winnipeg\, Manitoba\, R3L 2H1\, Canada
CATEGORIES:Holy Days
END:VEVENT
BEGIN:VEVENT
DTSTART;TZID=America/Winnipeg:20260402T193000
DTEND;TZID=America/Winnipeg:20260402T210000
DTSTAMP:20260424T112645
CREATED:20260320T170756Z
LAST-MODIFIED:20260320T170756Z
UID:6679-1775158200-1775163600@smaawpg.ca
SUMMARY:Maundy Thursday Sung Mass (with Foot Washing and Stripping of the Altar)
DESCRIPTION:
URL:https://smaawpg.ca/wp/event/maundy-thursday-sung-mass-with-foot-washing-and-stripping-of-the-altar/
LOCATION:St. Michael’s\, 300 Hugo St N\, Winnipeg\, MB\, R3M 2N7\, Canada
CATEGORIES:Holy Days
END:VEVENT
BEGIN:VEVENT
DTSTART;TZID=America/Winnipeg:20260402T120000
DTEND;TZID=America/Winnipeg:20260402T130000
DTSTAMP:20260424T112645
CREATED:20260320T170710Z
LAST-MODIFIED:20260320T170710Z
UID:6677-1775131200-1775134800@smaawpg.ca
SUMMARY:Maundy Thursday Low Mass
DESCRIPTION:
URL:https://smaawpg.ca/wp/event/maundy-thursday-low-mass/
LOCATION:St. Michael’s\, 300 Hugo St N\, Winnipeg\, MB\, R3M 2N7\, Canada
CATEGORIES:Holy Days
END:VEVENT
BEGIN:VEVENT
DTSTART;TZID=America/Winnipeg:20260401T210000
DTEND;TZID=America/Winnipeg:20260401T220000
DTSTAMP:20260424T112645
CREATED:20260320T170630Z
LAST-MODIFIED:20260320T170630Z
UID:6675-1775077200-1775080800@smaawpg.ca
SUMMARY:Tenebrae of Maundy Thursday (St. Luke's)
DESCRIPTION:
URL:https://smaawpg.ca/wp/event/tenebrae-of-maundy-thursday-st-lukes/
LOCATION:St. Luke’s\, 130 Nassau St N\, Winnipeg\, Manitoba\, R3L 2H1\, Canada
CATEGORIES:Holy Days
END:VEVENT
BEGIN:VEVENT
DTSTART;TZID=America/Winnipeg:20260401T110000
DTEND;TZID=America/Winnipeg:20260401T120000
DTSTAMP:20260424T112645
CREATED:20260320T170548Z
LAST-MODIFIED:20260320T170548Z
UID:6673-1775041200-1775044800@smaawpg.ca
SUMMARY:Spy Wednesday Said Eucharist (BCP - St. Luke's)
DESCRIPTION:
URL:https://smaawpg.ca/wp/event/spy-wednesday-said-eucharist-bcp-st-lukes/
LOCATION:St. Luke’s\, 130 Nassau St N\, Winnipeg\, Manitoba\, R3L 2H1\, Canada
CATEGORIES:Holy Days
END:VEVENT
BEGIN:VEVENT
DTSTART;TZID=America/Winnipeg:20260331T190000
DTEND;TZID=America/Winnipeg:20260331T200000
DTSTAMP:20260424T112645
CREATED:20260320T170506Z
LAST-MODIFIED:20260320T170506Z
UID:6671-1774983600-1774987200@smaawpg.ca
SUMMARY:Holy Tuesday Said Eucharist (BCP - St. Luke's)
DESCRIPTION:
URL:https://smaawpg.ca/wp/event/holy-tuesday-said-eucharist-bcp-st-lukes/
LOCATION:St. Luke’s\, 130 Nassau St N\, Winnipeg\, Manitoba\, R3L 2H1\, Canada
CATEGORIES:Holy Days
END:VEVENT
BEGIN:VEVENT
DTSTART;TZID=America/Winnipeg:20260330T110000
DTEND;TZID=America/Winnipeg:20260330T120000
DTSTAMP:20260424T112645
CREATED:20260320T170429Z
LAST-MODIFIED:20260320T170429Z
UID:6669-1774868400-1774872000@smaawpg.ca
SUMMARY:Holy Monday Said Eucharist (BCP - St. Luke's)
DESCRIPTION:
URL:https://smaawpg.ca/wp/event/holy-monday-said-eucharist-bcp-st-lukes/
LOCATION:St. Luke’s\, 130 Nassau St N\, Winnipeg\, Manitoba\, R3L 2H1\, Canada
CATEGORIES:Holy Days
END:VEVENT
BEGIN:VEVENT
DTSTART;TZID=America/Winnipeg:20260329T103000
DTEND;TZID=America/Winnipeg:20260329T123000
DTSTAMP:20260424T112645
CREATED:20260320T170337Z
LAST-MODIFIED:20260320T170343Z
UID:6666-1774780200-1774787400@smaawpg.ca
SUMMARY:Palm Sunday Mass & Procession
DESCRIPTION:
URL:https://smaawpg.ca/wp/event/palm-sunday/
LOCATION:St. Michael’s\, 300 Hugo St N\, Winnipeg\, MB\, R3M 2N7\, Canada
CATEGORIES:Holy Days
END:VEVENT
BEGIN:VEVENT
DTSTART;TZID=America/Winnipeg:20260325T193000
DTEND;TZID=America/Winnipeg:20260325T210000
DTSTAMP:20260424T112645
CREATED:20260109T220030Z
LAST-MODIFIED:20260320T170149Z
UID:6596-1774467000-1774472400@smaawpg.ca
SUMMARY:Feast of the Annunciation
DESCRIPTION:
URL:https://smaawpg.ca/wp/event/feast-of-the-annunciation/
LOCATION:St. Michael’s\, 300 Hugo St N\, Winnipeg\, MB\, R3M 2N7\, Canada
CATEGORIES:Holy Days
ATTACH;FMTTYPE=image/png:https://smaawpg.ca/wp/wp-content/uploads/2026/01/Feast-of-the-Annunciation.png
END:VEVENT
BEGIN:VEVENT
DTSTART;TZID=America/Winnipeg:20260321T090000
DTEND;TZID=America/Winnipeg:20260321T140000
DTSTAMP:20260424T112645
CREATED:20260203T214417Z
LAST-MODIFIED:20260203T214530Z
UID:6635-1774083600-1774101600@smaawpg.ca
SUMMARY:Smells & Belles Field Trip
DESCRIPTION:Join the St. Michael’s Smells & Belles as we make a trip up to a parishioner’s property as we discuss and pray an outdoor Stations of the Cross – homemade lunch included! \nLocation is not published here on the website for privacy reasons. Please speak with Archdeadon Lauren for Fr. Nicholas for more details. \nPlease Note: Because this trail is in the woods\, this event would not be best suited for those with mobility challenges.
URL:https://smaawpg.ca/wp/event/smells-belles-field-trip/
LOCATION:MB
CATEGORIES:Parish Events
ATTACH;FMTTYPE=image/png:https://smaawpg.ca/wp/wp-content/uploads/2026/01/All-Black.png
END:VEVENT
BEGIN:VEVENT
DTSTART;TZID=America/Winnipeg:20260320T190000
DTEND;TZID=America/Winnipeg:20260320T200000
DTSTAMP:20260424T112645
CREATED:20260320T170238Z
LAST-MODIFIED:20260320T170238Z
UID:6664-1774033200-1774036800@smaawpg.ca
SUMMARY:Stations of the Cross
DESCRIPTION:
URL:https://smaawpg.ca/wp/event/stations-of-the-cross/
LOCATION:St. Michael’s\, 300 Hugo St N\, Winnipeg\, MB\, R3M 2N7\, Canada
CATEGORIES:Holy Days,Parish Events
ATTACH;FMTTYPE=image/png:https://smaawpg.ca/wp/wp-content/uploads/2026/03/Stations-of-the-Cross-2026-1.png
END:VEVENT
BEGIN:VEVENT
DTSTART;TZID=America/Winnipeg:20260301T103000
DTEND;TZID=America/Winnipeg:20260301T140000
DTSTAMP:20260424T112645
CREATED:20260202T013407Z
LAST-MODIFIED:20260221T214516Z
UID:6628-1772361000-1772373600@smaawpg.ca
SUMMARY:Sung Mass followed by Parish Annual General Meeting
DESCRIPTION:All are invited to stay after church on March 1 for our Annual General Meeting (AGM). At the AGM we will be electing vestry members\, synod delegates\, and wardens. We will also be looking back over the year that has been and looking forward to the year to come. The AGM report will be in The Angelus the week before the meeting\, with a limited number of printed copies available as well.
URL:https://smaawpg.ca/wp/event/parish-annual-general-meeting/
LOCATION:St. Michael’s\, 300 Hugo St N\, Winnipeg\, MB\, R3M 2N7\, Canada
CATEGORIES:Parish Events
END:VEVENT
BEGIN:VEVENT
DTSTART;TZID=America/Winnipeg:20260222T123000
DTEND;TZID=America/Winnipeg:20260222T140000
DTSTAMP:20260424T112645
CREATED:20260202T013256Z
LAST-MODIFIED:20260202T013256Z
UID:6625-1771763400-1771768800@smaawpg.ca
SUMMARY:Smells & Belles: Lent I
DESCRIPTION:Our next meeting will be Sunday\, February 22 (Lent I). We will walk (or carpool) to Santa Lucia Pizza on Corydon after coffee hour. \nSmells & Belles  aims to bring folks together once a month for food and fellowship in an open and welcoming environment. Our aim is to explore faith in a deep and relevant way that enables us to grow together as a church community.
URL:https://smaawpg.ca/wp/event/smells-belles-lent-i/
LOCATION:MB
ATTACH;FMTTYPE=image/png:https://smaawpg.ca/wp/wp-content/uploads/2026/01/All-Black.png
END:VEVENT
BEGIN:VEVENT
DTSTART;TZID=America/Winnipeg:20260222T103000
DTEND;TZID=America/Winnipeg:20260222T120000
DTSTAMP:20260424T112645
CREATED:20260203T214829Z
LAST-MODIFIED:20260203T214829Z
UID:6638-1771756200-1771761600@smaawpg.ca
SUMMARY:Lent I Sung Mass and Litany in Procession
DESCRIPTION:
URL:https://smaawpg.ca/wp/event/lent-i-sung-mass-and-litany-in-procession/
LOCATION:St. Michael’s\, 300 Hugo St N\, Winnipeg\, MB\, R3M 2N7\, Canada
CATEGORIES:Parish Events
END:VEVENT
BEGIN:VEVENT
DTSTART;TZID=America/Winnipeg:20260218T193000
DTEND;TZID=America/Winnipeg:20260218T210000
DTSTAMP:20260424T112645
CREATED:20260109T215937Z
LAST-MODIFIED:20260130T191404Z
UID:6594-1771443000-1771448400@smaawpg.ca
SUMMARY:Ash Wednesday Choral Mass
DESCRIPTION:
URL:https://smaawpg.ca/wp/event/ash-wednesday-choral-mass/
LOCATION:St. Michael’s\, 300 Hugo St N\, Winnipeg\, MB\, R3M 2N7\, Canada
CATEGORIES:Holy Days
ATTACH;FMTTYPE=image/png:https://smaawpg.ca/wp/wp-content/uploads/2026/01/Ash-Wednesday-2026.png
END:VEVENT
BEGIN:VEVENT
DTSTART;TZID=America/Winnipeg:20260218T130000
DTEND;TZID=America/Winnipeg:20260218T140000
DTSTAMP:20260424T112645
CREATED:20260109T215843Z
LAST-MODIFIED:20260130T191415Z
UID:6592-1771419600-1771423200@smaawpg.ca
SUMMARY:Ash Wednesday Low Mass
DESCRIPTION:
URL:https://smaawpg.ca/wp/event/ash-wednesday-low-mass/
LOCATION:St. Michael’s\, 300 Hugo St N\, Winnipeg\, MB\, R3M 2N7\, Canada
CATEGORIES:Holy Days
ATTACH;FMTTYPE=image/png:https://smaawpg.ca/wp/wp-content/uploads/2026/01/Ash-Wednesday-2026.png
END:VEVENT
BEGIN:VEVENT
DTSTART;TZID=America/Winnipeg:20260217T170000
DTEND;TZID=America/Winnipeg:20260217T190000
DTSTAMP:20260424T112645
CREATED:20260130T190905Z
LAST-MODIFIED:20260130T191220Z
UID:6617-1771347600-1771354800@smaawpg.ca
SUMMARY:Shrove Tuesday Pancake Supper @ All Saints
DESCRIPTION:
URL:https://smaawpg.ca/wp/event/shrove-tuesday-pancake-supper/
LOCATION:All Saints Anglican Church\, 251 Broadway Ave\, Winnipeg\, Manitoba\, R3C 1B9\, Canada
CATEGORIES:Parish Events
ATTACH;FMTTYPE=image/png:https://smaawpg.ca/wp/wp-content/uploads/2026/01/Screenshot-2026-01-30-130823.png
END:VEVENT
BEGIN:VEVENT
DTSTART;TZID=America/Winnipeg:20260202T193000
DTEND;TZID=America/Winnipeg:20260202T210000
DTSTAMP:20260424T112645
CREATED:20260109T214630Z
LAST-MODIFIED:20260115T210732Z
UID:6585-1770060600-1770066000@smaawpg.ca
SUMMARY:Candlemas
DESCRIPTION:The Feast of the Presentation of Christ in the Temple and the Purification of the Blessed Virgin Mary – otherwise known as Candlemas – will be celebrated with the Blessing of Candles at 7:30pm on Monday\, 2 February 2026.
URL:https://smaawpg.ca/wp/event/candlemas/
LOCATION:St. Michael’s\, 300 Hugo St N\, Winnipeg\, MB\, R3M 2N7\, Canada
CATEGORIES:Holy Days
ATTACH;FMTTYPE=image/png:https://smaawpg.ca/wp/wp-content/uploads/2026/01/Candlemas-2026.png
END:VEVENT
BEGIN:VEVENT
DTSTART;TZID=America/Winnipeg:20260125T103000
DTEND;TZID=America/Winnipeg:20260125T120000
DTSTAMP:20260424T112645
CREATED:20260109T214759Z
LAST-MODIFIED:20260109T214759Z
UID:6587-1769337000-1769342400@smaawpg.ca
SUMMARY:Bishop’s Visit & Blessing of Epiphany Waters
DESCRIPTION:The Rt. Rev. Naboth Monzongo will make his first official visit to St. Michael & All Angels on January 25th. We will be blessing Epiphany water at this service as well\, please bring containers from home if you want to take Holy Water home with you. \nMass will commemorate the Feast of the Conversion of St. Paul
URL:https://smaawpg.ca/wp/event/bishops-visit-blessing-of-epiphany-waters/
LOCATION:St. Michael’s\, 300 Hugo St N\, Winnipeg\, MB\, R3M 2N7\, Canada
END:VEVENT
BEGIN:VEVENT
DTSTART;TZID=America/Winnipeg:20260121T180000
DTEND;TZID=America/Winnipeg:20260121T200000
DTSTAMP:20260424T112645
CREATED:20260115T212118Z
LAST-MODIFIED:20260115T212314Z
UID:6608-1769018400-1769025600@smaawpg.ca
SUMMARY:Smells & Belles: Taizé Prayer and Dinner
DESCRIPTION:As part of the Week of Prayer for Christian Unity\, Smells & Belles will be attending a Taizé prayer service at St. Mary’s Academy (550 Wellington Cres.) followed by dinner at Next Door (116 Sherbrook St).  \nParking for Next Door is available at the Food Fare at 115 Maryland Street. 
URL:https://smaawpg.ca/wp/event/smells-belles-taize-prayer-and-dinner/
LOCATION:St. Mary’s Academy\, 550 Wellington Cres\, Winnipeg\, Manitoba\, R3M 0C1\, Canada
CATEGORIES:Parish Events
ATTACH;FMTTYPE=image/png:https://smaawpg.ca/wp/wp-content/uploads/2026/01/All-Black.png
END:VEVENT
BEGIN:VEVENT
DTSTART;TZID=America/Winnipeg:20260118T160000
DTEND;TZID=America/Winnipeg:20260118T170000
DTSTAMP:20260424T112645
CREATED:20260109T215011Z
LAST-MODIFIED:20260109T215011Z
UID:6589-1768752000-1768755600@smaawpg.ca
SUMMARY:Epiphanytide Festival of Lessons and Carols
DESCRIPTION:We will continue our celebration of Epiphany with a service of lessons and carols\, together with the St. Alban Ordinariate Catholic Community. The service will be followed by a potluck supper and fellowship in the lower  hall. \nSt. John Brebeuf is located at 1707 John Brebeuf Place.
URL:https://smaawpg.ca/wp/event/epiphanytide-festival-of-lessons-and-carols/
LOCATION:St. John Brebeuf Roman Catholic Church\, 1707 John Brebeuf Place\, Winnipeg\, Manitoba\, R3N 2A2\, Canada
ATTACH;FMTTYPE=image/png:https://smaawpg.ca/wp/wp-content/uploads/2026/01/IMG_1510.png
END:VEVENT
BEGIN:VEVENT
DTSTART;TZID=America/Winnipeg:20260106T193000
DTEND;TZID=America/Winnipeg:20260106T210000
DTSTAMP:20260424T112645
CREATED:20251202T231703Z
LAST-MODIFIED:20251202T231703Z
UID:6544-1767727800-1767733200@smaawpg.ca
SUMMARY:Epiphany Mass
DESCRIPTION:Tuesday\, 6 January 2026 at 7:30pm\n \nOn the twelfth night of Christmas\, we celebrate the arrival of the Magi at the birth of Jesus and the beginning of the season of Epiphany.
URL:https://smaawpg.ca/wp/event/epiphany-mass/
LOCATION:St. Michael’s\, 300 Hugo St N\, Winnipeg\, MB\, R3M 2N7\, Canada
ATTACH;FMTTYPE=image/png:https://smaawpg.ca/wp/wp-content/uploads/2025/12/Feast-of-the-Epiphany-2026.png
END:VEVENT
BEGIN:VEVENT
DTSTART;TZID=America/Winnipeg:20251225T103000
DTEND;TZID=America/Winnipeg:20251225T120000
DTSTAMP:20260424T112645
CREATED:20251202T231404Z
LAST-MODIFIED:20251202T231550Z
UID:6540-1766658600-1766664000@smaawpg.ca
SUMMARY:Christmas Day Mass
DESCRIPTION:Christmas Eve – Wednesday\, 24 December 2025 at 11pm\nChristmas Day – Thursday\, 25 December 2025 at 10:30am \nAll are welcome to join us as we celebrate the birth of Christ. \n*Please note we will not have our usual Thursday noon mass on Christmas Day.
URL:https://smaawpg.ca/wp/event/christmas-day-mass/
LOCATION:St. Michael’s\, 300 Hugo St N\, Winnipeg\, MB\, R3M 2N7\, Canada
ATTACH;FMTTYPE=image/png:https://smaawpg.ca/wp/wp-content/uploads/2025/12/Color-Christmas-2025.png
END:VEVENT
BEGIN:VEVENT
DTSTART;TZID=America/Winnipeg:20251224T230000
DTEND;TZID=America/Winnipeg:20251225T010000
DTSTAMP:20260424T112645
CREATED:20251202T231313Z
LAST-MODIFIED:20251202T231537Z
UID:6537-1766617200-1766624400@smaawpg.ca
SUMMARY:Christmas Eve Mass
DESCRIPTION:Christmas Eve – Wednesday\, 24 December 2025 at 11pm\nChristmas Day – Thursday\, 25 December 2025 at 10:30am \nAll are welcome to join us as we celebrate the birth of Christ. \n*Please note we will not have our usual Thursday noon mass on Christmas Day.
URL:https://smaawpg.ca/wp/event/christmas-eve-mass/
LOCATION:St. Michael’s\, 300 Hugo St N\, Winnipeg\, MB\, R3M 2N7\, Canada
ATTACH;FMTTYPE=image/png:https://smaawpg.ca/wp/wp-content/uploads/2025/12/Color-Christmas-2025.png
END:VEVENT
BEGIN:VEVENT
DTSTART;TZID=America/Winnipeg:20251214T160000
DTEND;TZID=America/Winnipeg:20251214T170000
DTSTAMP:20260424T112645
CREATED:20251202T231132Z
LAST-MODIFIED:20251203T152757Z
UID:6533-1765728000-1765731600@smaawpg.ca
SUMMARY:Choral Evensong & Advent Hymn Sing
DESCRIPTION:*Special Note* This service is a joint service with the St. Alban Ordinariate Catholic Community and will take place at St John Brebeuf (1707 John Brebeuf Place) \nGaudete Sunday\, 14 December 2025 at 4 pm \nThis  service of evening prayer\, together with the St. Alban Ordinariate Catholic Community\, will be followed by a time of informal singing of Advent hymns. A  potluck supper and fellowship will follow in the lower hall. Please join us\, and bring friends and family along\, as we observe the season of Advent in  scripture\, prayers\, and music.
URL:https://smaawpg.ca/wp/event/choral-evensong-advent-hymn-sing/
LOCATION:St. John Brebeuf Roman Catholic Church\, 1707 John Brebeuf Place\, Winnipeg\, Manitoba\, R3N 2A2\, Canada
ATTACH;FMTTYPE=image/png:https://smaawpg.ca/wp/wp-content/uploads/2025/12/IMG_2586.png
END:VEVENT
BEGIN:VEVENT
DTSTART;TZID=America/Winnipeg:20251206T073000
DTEND;TZID=America/Winnipeg:20251206T083000
DTSTAMP:20260424T112645
CREATED:20251104T080435Z
LAST-MODIFIED:20251202T232948Z
UID:6463-1765006200-1765009800@smaawpg.ca
SUMMARY:Rorate Mass
DESCRIPTION:
URL:https://smaawpg.ca/wp/event/rorate-mass/
LOCATION:St. Luke’s\, 130 Nassau St N\, Winnipeg\, Manitoba\, R3L 2H1\, Canada
CATEGORIES:Holy Days
ATTACH;FMTTYPE=image/png:https://smaawpg.ca/wp/wp-content/uploads/2025/11/Rorate-Mass-2025-1.png
END:VEVENT
END:VCALENDAR