BEGIN:VCALENDAR
VERSION:2.0
PRODID:-//St. Michael &amp; All Angels - ECPv6.15.20//NONSGML v1.0//EN
CALSCALE:GREGORIAN
METHOD:PUBLISH
X-WR-CALNAME:St. Michael &amp; All Angels
X-ORIGINAL-URL:https://smaawpg.ca/wp
X-WR-CALDESC:Events for St. Michael &amp; All Angels
REFRESH-INTERVAL;VALUE=DURATION:PT1H
X-Robots-Tag:noindex
X-PUBLISHED-TTL:PT1H
BEGIN:VTIMEZONE
TZID:UTC
BEGIN:STANDARD
TZOFFSETFROM:+0000
TZOFFSETTO:+0000
TZNAME:UTC
DTSTART:20240101T000000
END:STANDARD
END:VTIMEZONE
BEGIN:VEVENT
DTSTART;TZID=UTC:20251103T193000
DTEND;TZID=UTC:20251103T210000
DTSTAMP:20260425T061009
CREATED:20251016T010340Z
LAST-MODIFIED:20251016T010656Z
UID:6296-1762198200-1762203600@smaawpg.ca
SUMMARY:All Souls' Requiem
DESCRIPTION:Join us for a Solemn High Mass of Requiem in commemoration of all the Faithful Departed for All Souls’ Day. \n 
URL:https://smaawpg.ca/wp/event/all-souls-requiem/
LOCATION:St. Michael’s\, 300 Hugo St N\, Winnipeg\, MB\, R3M 2N7\, Canada
CATEGORIES:Holy Days
ATTACH;FMTTYPE=image/png:https://smaawpg.ca/wp/wp-content/uploads/2025/10/All-Souls-2025-1.png
END:VEVENT
BEGIN:VEVENT
DTSTART;TZID=UTC:20251102T103000
DTEND;TZID=UTC:20251102T120000
DTSTAMP:20260425T061009
CREATED:20251016T010204Z
LAST-MODIFIED:20251015T214654Z
UID:6292-1762079400-1762084800@smaawpg.ca
SUMMARY:Procession & Sung Mass for All Saints
DESCRIPTION:Join us as we Celebrate all the Saints at our 10:30am Sunday Mass
URL:https://smaawpg.ca/wp/event/all-saints-mass-transferred/
LOCATION:St. Michael’s\, 300 Hugo St N\, Winnipeg\, MB\, R3M 2N7\, Canada
CATEGORIES:Holy Days
END:VEVENT
END:VCALENDAR