BEGIN:VCALENDAR
VERSION:2.0
PRODID:-//St. Michael &amp; All Angels - ECPv6.15.20//NONSGML v1.0//EN
CALSCALE:GREGORIAN
METHOD:PUBLISH
X-WR-CALNAME:St. Michael &amp; All Angels
X-ORIGINAL-URL:https://smaawpg.ca/wp
X-WR-CALDESC:Events for St. Michael &amp; All Angels
REFRESH-INTERVAL;VALUE=DURATION:PT1H
X-Robots-Tag:noindex
X-PUBLISHED-TTL:PT1H
BEGIN:VTIMEZONE
TZID:America/Winnipeg
BEGIN:DAYLIGHT
TZOFFSETFROM:-0600
TZOFFSETTO:-0500
TZNAME:CDT
DTSTART:20250309T080000
END:DAYLIGHT
BEGIN:STANDARD
TZOFFSETFROM:-0500
TZOFFSETTO:-0600
TZNAME:CST
DTSTART:20251102T070000
END:STANDARD
BEGIN:DAYLIGHT
TZOFFSETFROM:-0600
TZOFFSETTO:-0500
TZNAME:CDT
DTSTART:20260308T080000
END:DAYLIGHT
BEGIN:STANDARD
TZOFFSETFROM:-0500
TZOFFSETTO:-0600
TZNAME:CST
DTSTART:20261101T070000
END:STANDARD
BEGIN:DAYLIGHT
TZOFFSETFROM:-0600
TZOFFSETTO:-0500
TZNAME:CDT
DTSTART:20270314T080000
END:DAYLIGHT
BEGIN:STANDARD
TZOFFSETFROM:-0500
TZOFFSETTO:-0600
TZNAME:CST
DTSTART:20271107T070000
END:STANDARD
END:VTIMEZONE
BEGIN:VEVENT
DTSTART;TZID=America/Winnipeg:20260217T170000
DTEND;TZID=America/Winnipeg:20260217T190000
DTSTAMP:20260419T135109
CREATED:20260130T190905Z
LAST-MODIFIED:20260130T191220Z
UID:6617-1771347600-1771354800@smaawpg.ca
SUMMARY:Shrove Tuesday Pancake Supper @ All Saints
DESCRIPTION:
URL:https://smaawpg.ca/wp/event/shrove-tuesday-pancake-supper/
LOCATION:All Saints Anglican Church\, 251 Broadway Ave\, Winnipeg\, Manitoba\, R3C 1B9\, Canada
CATEGORIES:Parish Events
ATTACH;FMTTYPE=image/png:https://smaawpg.ca/wp/wp-content/uploads/2026/01/Screenshot-2026-01-30-130823.png
END:VEVENT
END:VCALENDAR