BEGIN:VCALENDAR
VERSION:2.0
PRODID:-//St. Michael &amp; All Angels - ECPv6.15.20//NONSGML v1.0//EN
CALSCALE:GREGORIAN
METHOD:PUBLISH
X-ORIGINAL-URL:https://smaawpg.ca/wp
X-WR-CALDESC:Events for St. Michael &amp; All Angels
REFRESH-INTERVAL;VALUE=DURATION:PT1H
X-Robots-Tag:noindex
X-PUBLISHED-TTL:PT1H
BEGIN:VTIMEZONE
TZID:America/Winnipeg
BEGIN:DAYLIGHT
TZOFFSETFROM:-0600
TZOFFSETTO:-0500
TZNAME:CDT
DTSTART:20250309T080000
END:DAYLIGHT
BEGIN:STANDARD
TZOFFSETFROM:-0500
TZOFFSETTO:-0600
TZNAME:CST
DTSTART:20251102T070000
END:STANDARD
BEGIN:DAYLIGHT
TZOFFSETFROM:-0600
TZOFFSETTO:-0500
TZNAME:CDT
DTSTART:20260308T080000
END:DAYLIGHT
BEGIN:STANDARD
TZOFFSETFROM:-0500
TZOFFSETTO:-0600
TZNAME:CST
DTSTART:20261101T070000
END:STANDARD
BEGIN:DAYLIGHT
TZOFFSETFROM:-0600
TZOFFSETTO:-0500
TZNAME:CDT
DTSTART:20270314T080000
END:DAYLIGHT
BEGIN:STANDARD
TZOFFSETFROM:-0500
TZOFFSETTO:-0600
TZNAME:CST
DTSTART:20271107T070000
END:STANDARD
END:VTIMEZONE
BEGIN:VEVENT
DTSTART;TZID=America/Winnipeg:20260403T123000
DTEND;TZID=America/Winnipeg:20260403T140000
DTSTAMP:20260422T023044
CREATED:20260320T170922Z
LAST-MODIFIED:20260320T170922Z
UID:6683-1775219400-1775224800@smaawpg.ca
SUMMARY:Good Friday Solemn Liturgy
DESCRIPTION:with Communion from the Reserved Sacrament
URL:https://smaawpg.ca/wp/event/good-friday-solemn-liturgy/
LOCATION:St. Michael’s\, 300 Hugo St N\, Winnipeg\, MB\, R3M 2N7\, Canada
CATEGORIES:Holy Days
END:VEVENT
BEGIN:VEVENT
DTSTART;TZID=America/Winnipeg:20260403T210000
DTEND;TZID=America/Winnipeg:20260403T220000
DTSTAMP:20260422T023044
CREATED:20260320T170955Z
LAST-MODIFIED:20260320T170955Z
UID:6685-1775250000-1775253600@smaawpg.ca
SUMMARY:Tenebrae of Holy Saturday (St. Luke's)
DESCRIPTION:
URL:https://smaawpg.ca/wp/event/tenebrae-of-holy-saturday-st-lukes/
LOCATION:St. Luke’s\, 130 Nassau St N\, Winnipeg\, Manitoba\, R3L 2H1\, Canada
CATEGORIES:Holy Days
END:VEVENT
END:VCALENDAR