BEGIN:VCALENDAR
VERSION:2.0
PRODID:-//St. Michael &amp; All Angels - ECPv6.15.20//NONSGML v1.0//EN
CALSCALE:GREGORIAN
METHOD:PUBLISH
X-WR-CALNAME:St. Michael &amp; All Angels
X-ORIGINAL-URL:https://smaawpg.ca/wp
X-WR-CALDESC:Events for St. Michael &amp; All Angels
REFRESH-INTERVAL;VALUE=DURATION:PT1H
X-Robots-Tag:noindex
X-PUBLISHED-TTL:PT1H
BEGIN:VTIMEZONE
TZID:America/Winnipeg
BEGIN:DAYLIGHT
TZOFFSETFROM:-0600
TZOFFSETTO:-0500
TZNAME:CDT
DTSTART:20250309T080000
END:DAYLIGHT
BEGIN:STANDARD
TZOFFSETFROM:-0500
TZOFFSETTO:-0600
TZNAME:CST
DTSTART:20251102T070000
END:STANDARD
BEGIN:DAYLIGHT
TZOFFSETFROM:-0600
TZOFFSETTO:-0500
TZNAME:CDT
DTSTART:20260308T080000
END:DAYLIGHT
BEGIN:STANDARD
TZOFFSETFROM:-0500
TZOFFSETTO:-0600
TZNAME:CST
DTSTART:20261101T070000
END:STANDARD
BEGIN:DAYLIGHT
TZOFFSETFROM:-0600
TZOFFSETTO:-0500
TZNAME:CDT
DTSTART:20270314T080000
END:DAYLIGHT
BEGIN:STANDARD
TZOFFSETFROM:-0500
TZOFFSETTO:-0600
TZNAME:CST
DTSTART:20271107T070000
END:STANDARD
END:VTIMEZONE
BEGIN:VEVENT
DTSTART;TZID=America/Winnipeg:20260222T103000
DTEND;TZID=America/Winnipeg:20260222T120000
DTSTAMP:20260424T052227
CREATED:20260203T214829Z
LAST-MODIFIED:20260203T214829Z
UID:6638-1771756200-1771761600@smaawpg.ca
SUMMARY:Lent I Sung Mass and Litany in Procession
DESCRIPTION:
URL:https://smaawpg.ca/wp/event/lent-i-sung-mass-and-litany-in-procession/
LOCATION:St. Michael’s\, 300 Hugo St N\, Winnipeg\, MB\, R3M 2N7\, Canada
CATEGORIES:Parish Events
END:VEVENT
BEGIN:VEVENT
DTSTART;TZID=America/Winnipeg:20260222T123000
DTEND;TZID=America/Winnipeg:20260222T140000
DTSTAMP:20260424T052227
CREATED:20260202T013256Z
LAST-MODIFIED:20260202T013256Z
UID:6625-1771763400-1771768800@smaawpg.ca
SUMMARY:Smells & Belles: Lent I
DESCRIPTION:Our next meeting will be Sunday\, February 22 (Lent I). We will walk (or carpool) to Santa Lucia Pizza on Corydon after coffee hour. \nSmells & Belles  aims to bring folks together once a month for food and fellowship in an open and welcoming environment. Our aim is to explore faith in a deep and relevant way that enables us to grow together as a church community.
URL:https://smaawpg.ca/wp/event/smells-belles-lent-i/
LOCATION:MB
ATTACH;FMTTYPE=image/png:https://smaawpg.ca/wp/wp-content/uploads/2026/01/All-Black.png
END:VEVENT
END:VCALENDAR