BEGIN:VCALENDAR
VERSION:2.0
PRODID:-//St. Michael &amp; All Angels - ECPv6.15.20//NONSGML v1.0//EN
CALSCALE:GREGORIAN
METHOD:PUBLISH
X-ORIGINAL-URL:https://smaawpg.ca/wp
X-WR-CALDESC:Events for St. Michael &amp; All Angels
REFRESH-INTERVAL;VALUE=DURATION:PT1H
X-Robots-Tag:noindex
X-PUBLISHED-TTL:PT1H
BEGIN:VTIMEZONE
TZID:America/Winnipeg
BEGIN:DAYLIGHT
TZOFFSETFROM:-0600
TZOFFSETTO:-0500
TZNAME:CDT
DTSTART:20250309T080000
END:DAYLIGHT
BEGIN:STANDARD
TZOFFSETFROM:-0500
TZOFFSETTO:-0600
TZNAME:CST
DTSTART:20251102T070000
END:STANDARD
BEGIN:DAYLIGHT
TZOFFSETFROM:-0600
TZOFFSETTO:-0500
TZNAME:CDT
DTSTART:20260308T080000
END:DAYLIGHT
BEGIN:STANDARD
TZOFFSETFROM:-0500
TZOFFSETTO:-0600
TZNAME:CST
DTSTART:20261101T070000
END:STANDARD
BEGIN:DAYLIGHT
TZOFFSETFROM:-0600
TZOFFSETTO:-0500
TZNAME:CDT
DTSTART:20270314T080000
END:DAYLIGHT
BEGIN:STANDARD
TZOFFSETFROM:-0500
TZOFFSETTO:-0600
TZNAME:CST
DTSTART:20271107T070000
END:STANDARD
END:VTIMEZONE
BEGIN:VEVENT
DTSTART;TZID=America/Winnipeg:20260125T103000
DTEND;TZID=America/Winnipeg:20260125T120000
DTSTAMP:20260424T071421
CREATED:20260109T214759Z
LAST-MODIFIED:20260109T214759Z
UID:6587-1769337000-1769342400@smaawpg.ca
SUMMARY:Bishop’s Visit & Blessing of Epiphany Waters
DESCRIPTION:The Rt. Rev. Naboth Monzongo will make his first official visit to St. Michael & All Angels on January 25th. We will be blessing Epiphany water at this service as well\, please bring containers from home if you want to take Holy Water home with you. \nMass will commemorate the Feast of the Conversion of St. Paul
URL:https://smaawpg.ca/wp/event/bishops-visit-blessing-of-epiphany-waters/
LOCATION:St. Michael’s\, 300 Hugo St N\, Winnipeg\, MB\, R3M 2N7\, Canada
END:VEVENT
END:VCALENDAR